Workbook

Sheet Quantities
A1: Quantity sheet
A2: Office fit-out, Al Olaya, Riyadh
A3: Drawing A-101, Ground floor layout and reflected ceiling · Rev C · Scale 1:100
A4: Sample takeoff by TakeoffQty, takeoffqty.com. Quantities only: no prices.
A5: Type your own rates in the yellow Rate column and Amount fills in, for example 45 for SAR 45 per m².
A7: Ref | B7: Trade | C7: Description | D7: Unit | E7: Qty | F7: Rate (SAR) | G7: Amount (SAR) | H7: Drawing
A8: Ceilings
A9: C-01 | B9: Ceilings | C9: Gypsum board ceiling, 12.5 mm, painted | D9: m² | E9: =SUMIFS('Room breakdown'!$F:$F,'Room breakdown'!$A:$A,$A9) -> 83 | G9: =IF(F9="","",E9*F9) | H9: A-101
A10: C-02 | B10: Ceilings | C10: Mineral fibre tile ceiling, 600 × 600 mm | D10: m² | E10: =SUMIFS('Room breakdown'!$F:$F,'Room breakdown'!$A:$A,$A10) -> 66 | G10: =IF(F10="","",E10*F10) | H10: A-101
A11: C-03 | B11: Ceilings | C11: Moisture-resistant gypsum ceiling, painted | D11: m² | E11: =SUMIFS('Room breakdown'!$F:$F,'Room breakdown'!$A:$A,$A11) -> 32.5 | G11: =IF(F11="","",E11*F11) | H11: A-101
A12: Partitions
A13: P-01 | B13: Partitions | C13: Gypsum partition, 100 mm, 3.0 m high | D13: m² | E13: =SUMIFS('Room breakdown'!$F:$F,'Room breakdown'!$A:$A,$A13) -> 126.15 | G13: =IF(F13="","",E13*F13) | H13: A-101
A14: P-02 | B14: Partitions | C14: Frameless glass partition, 12 mm, 3.0 m high | D14: m | E14: =SUMIFS('Room breakdown'!$F:$F,'Room breakdown'!$A:$A,$A14) -> 11 | G14: =IF(F14="","",E14*F14) | H14: A-101
A15: Doors
A16: D-01 | B16: Doors | C16: Single leaf timber door, 900 × 2100 mm | D16: nos | E16: =SUMIFS('Room breakdown'!$F:$F,'Room breakdown'!$A:$A,$A16) -> 5 | G16: =IF(F16="","",E16*F16) | H16: A-101
A17: D-02 | B17: Doors | C17: Frameless glass door, 1000 × 2100 mm | D17: nos | E17: =SUMIFS('Room breakdown'!$F:$F,'Room breakdown'!$A:$A,$A17) -> 1 | G17: =IF(F17="","",E17*F17) | H17: A-101
A18: D-03 | B18: Doors | C18: Double leaf entrance door, 1800 × 2400 mm | D18: nos | E18: =SUMIFS('Room breakdown'!$F:$F,'Room breakdown'!$A:$A,$A18) -> 1 | G18: =IF(F18="","",E18*F18) | H18: A-101
A19: Lighting
A20: E-01 | B20: Lighting | C20: LED panel, 600 × 600 mm, 36 W | D20: nos | E20: =SUMIFS('Room breakdown'!$F:$F,'Room breakdown'!$A:$A,$A20) -> 18 | G20: =IF(F20="","",E20*F20) | H20: A-101
A21: E-02 | B21: Lighting | C21: LED downlight, Ø150 mm, 12 W | D21: nos | E21: =SUMIFS('Room breakdown'!$F:$F,'Room breakdown'!$A:$A,$A21) -> 22 | G21: =IF(F21="","",E21*F21) | H21: A-101
A22: E-03 | B22: Lighting | C22: LED batten, 1200 mm, IP65 | D22: nos | E22: =SUMIFS('Room breakdown'!$F:$F,'Room breakdown'!$A:$A,$A22) -> 2 | G22: =IF(F22="","",E22*F22) | H22: A-101
F24: Total | G24: =SUM(G8:G22) -> 0

Sheet Room breakdown
A1: Room-by-room breakdown
A2: Office fit-out, Al Olaya, Riyadh
A3: Drawing A-101, Ground floor layout and reflected ceiling · Rev C · Scale 1:100
A4: Sample takeoff by TakeoffQty, takeoffqty.com. Quantities only: no prices.
A6: Ref | B6: Description | C6: Location | D6: Sheet | E6: Unit | F6: Qty
A7: C-01 | B7: Gypsum board ceiling, 12.5 mm, painted | C7: Reception | D7: A-101 | E7: m² | F7: 20
A8: C-01 | B8: Gypsum board ceiling, 12.5 mm, painted | C8: Meeting | D8: A-101 | E8: m² | F8: 20
A9: C-01 | B9: Gypsum board ceiling, 12.5 mm, painted | C9: Manager | D9: A-101 | E9: m² | F9: 16
A10: C-01 | B10: Gypsum board ceiling, 12.5 mm, painted | C10: Corridor | D10: A-101 | E10: m² | F10: 27
D11: Total C-01 | E11: m² | F11: =SUM(F7:F10) -> 83
A13: C-02 | B13: Mineral fibre tile ceiling, 600 × 600 mm | C13: Open office | D13: A-101 | E13: m² | F13: 66
D14: Total C-02 | E14: m² | F14: =SUM(F13) -> 66
A16: C-03 | B16: Moisture-resistant gypsum ceiling, painted | C16: Pantry | D16: A-101 | E16: m² | F16: 16
A17: C-03 | B17: Moisture-resistant gypsum ceiling, painted | C17: WC | D17: A-101 | E17: m² | F17: 16.5
D18: Total C-03 | E18: m² | F18: =SUM(F16:F17) -> 32.5
A20: P-01 | B20: Gypsum partition, 100 mm, 3.0 m high | C20: Front rooms to corridor | D20: A-101 | E20: m² | F20: 42.93
A21: P-01 | B21: Gypsum partition, 100 mm, 3.0 m high | C21: Between front rooms | D21: A-101 | E21: m² | F21: 36
A22: P-01 | B22: Gypsum partition, 100 mm, 3.0 m high | C22: WC and store to corridor | D22: A-101 | E22: m² | F22: 14.22
A23: P-01 | B23: Gypsum partition, 100 mm, 3.0 m high | C23: WC and store side walls | D23: A-101 | E23: m² | F23: 33
D24: Total P-01 | E24: m² | F24: =SUM(F20:F23) -> 126.15
A26: P-02 | B26: Frameless glass partition, 12 mm, 3.0 m high | C26: Open office | D26: A-101 | E26: m | F26: 11
D27: Total P-02 | E27: m | F27: =SUM(F26) -> 11
A29: D-01 | B29: Single leaf timber door, 900 × 2100 mm | C29: Meeting | D29: A-101 | E29: nos | F29: 1
A30: D-01 | B30: Single leaf timber door, 900 × 2100 mm | C30: Manager | D30: A-101 | E30: nos | F30: 1
A31: D-01 | B31: Single leaf timber door, 900 × 2100 mm | C31: Pantry | D31: A-101 | E31: nos | F31: 1
A32: D-01 | B32: Single leaf timber door, 900 × 2100 mm | C32: WC | D32: A-101 | E32: nos | F32: 1
A33: D-01 | B33: Single leaf timber door, 900 × 2100 mm | C33: Store | D33: A-101 | E33: nos | F33: 1
D34: Total D-01 | E34: nos | F34: =SUM(F29:F33) -> 5
A36: D-02 | B36: Frameless glass door, 1000 × 2100 mm | C36: Open office | D36: A-101 | E36: nos | F36: 1
D37: Total D-02 | E37: nos | F37: =SUM(F36) -> 1
A39: D-03 | B39: Double leaf entrance door, 1800 × 2400 mm | C39: Reception | D39: A-101 | E39: nos | F39: 1
D40: Total D-03 | E40: nos | F40: =SUM(F39) -> 1
A42: E-01 | B42: LED panel, 600 × 600 mm, 36 W | C42: Open office | D42: A-101 | E42: nos | F42: 18
D43: Total E-01 | E43: nos | F43: =SUM(F42) -> 18
A45: E-02 | B45: LED downlight, Ø150 mm, 12 W | C45: Reception | D45: A-101 | E45: nos | F45: 4
A46: E-02 | B46: LED downlight, Ø150 mm, 12 W | C46: Meeting | D46: A-101 | E46: nos | F46: 4
A47: E-02 | B47: LED downlight, Ø150 mm, 12 W | C47: Manager | D47: A-101 | E47: nos | F47: 4
A48: E-02 | B48: LED downlight, Ø150 mm, 12 W | C48: Corridor | D48: A-101 | E48: nos | F48: 6
A49: E-02 | B49: LED downlight, Ø150 mm, 12 W | C49: Pantry | D49: A-101 | E49: nos | F49: 2
A50: E-02 | B50: LED downlight, Ø150 mm, 12 W | C50: WC | D50: A-101 | E50: nos | F50: 2
...

Sheet Notes and queries
A1: Measurement notes and queries
A2: Office fit-out, Al Olaya, Riyadh
A3: Drawing A-101, Ground floor layout and reflected ceiling · Rev C · Scale 1:100
A4: Sample takeoff by TakeoffQty, takeoffqty.com. Quantities only: no prices.
A6: Measurement notes
A7: 1 | B7: Areas and lengths measured to wall centrelines.
A8: 2 | B8: Partition height taken as 3.0 m, finished floor to underside of slab (section A-301).
A9: 3 | B9: Door openings deducted from partition areas. Openings without doors are not measured.
A10: 4 | B10: Ceiling areas are not reduced for light fittings, diffusers or access panels.
A11: 5 | B11: Store has an exposed soffit and no ceiling is measured.
A13: Queries for you
A14: 1 | B14: Pantry ceiling type is not on the finish schedule. Measured as moisture-resistant gypsum to match the WC. Please confirm.
A15: 2 | B15: Glass partition head detail is missing. Measured full height to 3.0 m.
